BEGIN:VCALENDAR
VERSION:2.0
PRODID:-//Aska&#039;s Animals - ECPv6.15.20//NONSGML v1.0//EN
CALSCALE:GREGORIAN
METHOD:PUBLISH
X-WR-CALNAME:Aska&#039;s Animals
X-ORIGINAL-URL:https://askasanimals.org
X-WR-CALDESC:Events for Aska&#039;s Animals
REFRESH-INTERVAL;VALUE=DURATION:PT1H
X-Robots-Tag:noindex
X-PUBLISHED-TTL:PT1H
BEGIN:VTIMEZONE
TZID:America/Denver
BEGIN:DAYLIGHT
TZOFFSETFROM:-0700
TZOFFSETTO:-0600
TZNAME:MDT
DTSTART:20230312T090000
END:DAYLIGHT
BEGIN:STANDARD
TZOFFSETFROM:-0600
TZOFFSETTO:-0700
TZNAME:MST
DTSTART:20231105T080000
END:STANDARD
BEGIN:DAYLIGHT
TZOFFSETFROM:-0700
TZOFFSETTO:-0600
TZNAME:MDT
DTSTART:20240310T090000
END:DAYLIGHT
BEGIN:STANDARD
TZOFFSETFROM:-0600
TZOFFSETTO:-0700
TZNAME:MST
DTSTART:20241103T080000
END:STANDARD
BEGIN:DAYLIGHT
TZOFFSETFROM:-0700
TZOFFSETTO:-0600
TZNAME:MDT
DTSTART:20250309T090000
END:DAYLIGHT
BEGIN:STANDARD
TZOFFSETFROM:-0600
TZOFFSETTO:-0700
TZNAME:MST
DTSTART:20251102T080000
END:STANDARD
END:VTIMEZONE
BEGIN:VEVENT
DTSTART;TZID=America/Denver:20241213T153000
DTEND;TZID=America/Denver:20241213T173000
DTSTAMP:20260423T113543
CREATED:20241120T231734Z
LAST-MODIFIED:20241120T231829Z
UID:10000531-1734103800-1734111000@askasanimals.org
SUMMARY:Book Launch @ Wilson Book Gallery
DESCRIPTION:Join the Aska’s Animals team at Wilson Book Gallery\, for the launch of our very first children’s book: Where Puppies Play & Pigs Fly\, written by Hope Nartonis and illustrated by Grace Peck. This exciting event will feature a storytime reading of the book\, adoptable puppies\, and community connection\, just in time for the holidays. \n 
URL:https://askasanimals.org/event/book-launch-wilson-book-gallery/
LOCATION:Wilson Book Gallery\, 3465 N. Pines Way\, Suite 101\, Wilson\, WY\, 83014\, United States
ATTACH;FMTTYPE=image/png:https://askasanimals.org/wp-content/uploads/2024/11/3.png
END:VEVENT
END:VCALENDAR